BEGIN:VCALENDAR
VERSION:2.0
PRODID:-//International Seaweed Association - ECPv6.15.20//NONSGML v1.0//EN
CALSCALE:GREGORIAN
METHOD:PUBLISH
X-WR-CALNAME:International Seaweed Association
X-ORIGINAL-URL:https://isaseaweed.org
X-WR-CALDESC:Events for International Seaweed Association
REFRESH-INTERVAL;VALUE=DURATION:PT1H
X-Robots-Tag:noindex
X-PUBLISHED-TTL:PT1H
BEGIN:VTIMEZONE
TZID:Europe/Copenhagen
BEGIN:DAYLIGHT
TZOFFSETFROM:+0100
TZOFFSETTO:+0200
TZNAME:CEST
DTSTART:20250330T010000
END:DAYLIGHT
BEGIN:STANDARD
TZOFFSETFROM:+0200
TZOFFSETTO:+0100
TZNAME:CET
DTSTART:20251026T010000
END:STANDARD
BEGIN:DAYLIGHT
TZOFFSETFROM:+0100
TZOFFSETTO:+0200
TZNAME:CEST
DTSTART:20260329T010000
END:DAYLIGHT
BEGIN:STANDARD
TZOFFSETFROM:+0200
TZOFFSETTO:+0100
TZNAME:CET
DTSTART:20261025T010000
END:STANDARD
BEGIN:DAYLIGHT
TZOFFSETFROM:+0100
TZOFFSETTO:+0200
TZNAME:CEST
DTSTART:20270328T010000
END:DAYLIGHT
BEGIN:STANDARD
TZOFFSETFROM:+0200
TZOFFSETTO:+0100
TZNAME:CET
DTSTART:20271031T010000
END:STANDARD
BEGIN:DAYLIGHT
TZOFFSETFROM:+0100
TZOFFSETTO:+0200
TZNAME:CEST
DTSTART:20280326T010000
END:DAYLIGHT
BEGIN:STANDARD
TZOFFSETFROM:+0200
TZOFFSETTO:+0100
TZNAME:CET
DTSTART:20281029T010000
END:STANDARD
BEGIN:DAYLIGHT
TZOFFSETFROM:+0100
TZOFFSETTO:+0200
TZNAME:CEST
DTSTART:20290325T010000
END:DAYLIGHT
BEGIN:STANDARD
TZOFFSETFROM:+0200
TZOFFSETTO:+0100
TZNAME:CET
DTSTART:20291028T010000
END:STANDARD
END:VTIMEZONE
BEGIN:VEVENT
DTSTART;TZID=Europe/Copenhagen:20260616T080000
DTEND;TZID=Europe/Copenhagen:20260619T170000
DTSTAMP:20260418T072353
CREATED:20251111T221127Z
LAST-MODIFIED:20251111T221127Z
UID:10000041-1781596800-1781888400@isaseaweed.org
SUMMARY:6th Seaweed for Health Conference
DESCRIPTION:
URL:https://isaseaweed.org/event/6th-seaweed-for-health-conference/
END:VEVENT
BEGIN:VEVENT
DTSTART;TZID=Europe/Copenhagen:20270613T080000
DTEND;TZID=Europe/Copenhagen:20270627T170000
DTSTAMP:20260418T072353
CREATED:20251111T220814Z
LAST-MODIFIED:20251111T220827Z
UID:10000040-1812873600-1814115600@isaseaweed.org
SUMMARY:9th Congress of the International Society of Applied Phycology
DESCRIPTION:Mid June- dates to be announced
URL:https://isaseaweed.org/event/9th-congress-of-the-international-society-of-applied-phycology/
LOCATION:Perth\, West Australia
END:VEVENT
BEGIN:VEVENT
DTSTART;TZID=Europe/Copenhagen:20280423T080000
DTEND;TZID=Europe/Copenhagen:20280428T170000
DTSTAMP:20260418T072353
CREATED:20251111T220237Z
LAST-MODIFIED:20251111T220237Z
UID:10000039-1840089600-1840554000@isaseaweed.org
SUMMARY:26th International Seaweed Symposium\, Qingdao China
DESCRIPTION:
URL:https://isaseaweed.org/event/26th-international-seaweed-symposium-qingdao-china/
LOCATION:Qingdao\, China
END:VEVENT
END:VCALENDAR